Package: easylift Version: 1.4.0 Command: chmod a+r easylift -R && F:\biocbuild\bbs-3.20-bioc\R\bin\R.exe CMD build --keep-empty-dirs --no-resave-data easylift StartedAt: 2025-01-30 18:33:55 -0500 (Thu, 30 Jan 2025) EndedAt: 2025-01-30 18:35:01 -0500 (Thu, 30 Jan 2025) EllapsedTime: 66.1 seconds RetCode: 0 Status: OK PackageFile: easylift_1.4.0.tar.gz PackageFileSize: 673.5 KiB