Package: easylift Version: 1.4.0 Command: /home/biocbuild/R/R/bin/R CMD build --keep-empty-dirs --no-resave-data easylift StartedAt: 2025-01-30 23:19:08 -0000 (Thu, 30 Jan 2025) EndedAt: 2025-01-30 23:20:03 -0000 (Thu, 30 Jan 2025) EllapsedTime: 55.0 seconds RetCode: 0 Status: OK PackageFile: easylift_1.4.0.tar.gz PackageFileSize: 697.9 KiB