Package: easylift Version: 1.4.0 Command: /home/biocbuild/R/R/bin/R CMD INSTALL easylift StartedAt: 2025-01-30 20:24:37 -0000 (Thu, 30 Jan 2025) EndedAt: 2025-01-30 20:25:22 -0000 (Thu, 30 Jan 2025) EllapsedTime: 45.1 seconds RetCode: 0 Status: OK