Package: easyreporting Version: 1.18.0 Command: /Library/Frameworks/R.framework/Resources/bin/R CMD INSTALL easyreporting StartedAt: 2025-02-03 16:01:37 -0500 (Mon, 03 Feb 2025) EndedAt: 2025-02-03 16:01:45 -0500 (Mon, 03 Feb 2025) EllapsedTime: 8.1 seconds RetCode: 0 Status: OK