Package: easyreporting Version: 1.18.0 Command: chmod a+r easyreporting -R && F:\biocbuild\bbs-3.20-bioc\R\bin\R.exe CMD build --keep-empty-dirs --no-resave-data easyreporting StartedAt: 2025-02-03 18:48:53 -0500 (Mon, 03 Feb 2025) EndedAt: 2025-02-03 18:49:30 -0500 (Mon, 03 Feb 2025) EllapsedTime: 37.0 seconds RetCode: 0 Status: OK PackageFile: easyreporting_1.18.0.tar.gz PackageFileSize: 2.94 MiB