Package: easyreporting Version: 1.18.0 Command: /home/biocbuild/R/R/bin/R CMD check --install=check:easyreporting.install-out.txt --library=/home/biocbuild/R/R/site-library --no-vignettes --timings easyreporting_1.18.0.tar.gz StartedAt: 2025-02-04 06:38:45 -0000 (Tue, 04 Feb 2025) EndedAt: 2025-02-04 06:39:13 -0000 (Tue, 04 Feb 2025) EllapsedTime: 28.0 seconds RetCode: 0 Status: OK CheckDir: easyreporting.Rcheck Warnings: 0