Package: easyreporting Version: 1.18.0 Command: /home/biocbuild/R/R/bin/R CMD INSTALL easyreporting StartedAt: 2025-02-03 20:54:32 -0000 (Mon, 03 Feb 2025) EndedAt: 2025-02-03 20:54:36 -0000 (Mon, 03 Feb 2025) EllapsedTime: 4.7 seconds RetCode: 0 Status: OK