Package: ecolitk Version: 1.78.0 Command: /Library/Frameworks/R.framework/Resources/bin/R CMD build --keep-empty-dirs --no-resave-data ecolitk StartedAt: 2025-02-03 23:00:54 -0500 (Mon, 03 Feb 2025) EndedAt: 2025-02-03 23:01:18 -0500 (Mon, 03 Feb 2025) EllapsedTime: 23.7 seconds RetCode: 0 Status: OK PackageFile: ecolitk_1.78.0.tar.gz PackageFileSize: 1.829 MiB