Package: ecolitk Version: 1.78.0 Command: /Library/Frameworks/R.framework/Resources/bin/R CMD INSTALL ecolitk StartedAt: 2025-02-03 15:10:10 -0500 (Mon, 03 Feb 2025) EndedAt: 2025-02-03 15:10:15 -0500 (Mon, 03 Feb 2025) EllapsedTime: 4.6 seconds RetCode: 0 Status: OK