Package: ecolitk Version: 1.78.0 Command: /Library/Frameworks/R.framework/Resources/bin/R CMD build --keep-empty-dirs --no-resave-data ecolitk StartedAt: 2025-01-30 18:52:02 -0500 (Thu, 30 Jan 2025) EndedAt: 2025-01-30 18:52:54 -0500 (Thu, 30 Jan 2025) EllapsedTime: 51.9 seconds RetCode: 0 Status: OK PackageFile: ecolitk_1.78.0.tar.gz PackageFileSize: 1.829 MiB