Package: ecolitk Version: 1.78.0 Command: /home/biocbuild/R/R/bin/R CMD build --keep-empty-dirs --no-resave-data ecolitk StartedAt: 2025-01-30 23:20:05 -0000 (Thu, 30 Jan 2025) EndedAt: 2025-01-30 23:20:24 -0000 (Thu, 30 Jan 2025) EllapsedTime: 19.0 seconds RetCode: 0 Status: OK PackageFile: ecolitk_1.78.0.tar.gz PackageFileSize: 1.82 MiB