Package: eiR
Version: 1.46.0
Maintainer: Thomas Girke
MaintainerEmail: thomas.girke at ucr.edu
git_url: https://git.bioconductor.org/packages/eiR
git_branch: RELEASE_3_20
git_last_commit: 2983267
git_last_commit_date: 2024-10-29 09:45:22 -0500 (Tue, 29 Oct 2024)