Package: eiR Version: 1.46.0 Command: /Library/Frameworks/R.framework/Resources/bin/R CMD INSTALL eiR StartedAt: 2025-02-03 17:54:11 -0500 (Mon, 03 Feb 2025) EndedAt: 2025-02-03 17:54:20 -0500 (Mon, 03 Feb 2025) EllapsedTime: 9.4 seconds RetCode: 0 Status: OK