Package: eiR Version: 1.46.0 Command: /home/biocbuild/bbs-3.20-bioc/R/bin/R CMD build --keep-empty-dirs --no-resave-data --md5 eiR StartedAt: 2025-02-03 17:17:44 -0500 (Mon, 03 Feb 2025) EndedAt: 2025-02-03 17:18:02 -0500 (Mon, 03 Feb 2025) EllapsedTime: 18.0 seconds RetCode: 0 Status: OK PackageFile: eiR_1.46.0.tar.gz PackageFileSize: 442.1 KiB