Package: eiR Version: 1.46.0 Command: /home/biocbuild/bbs-3.20-bioc/R/bin/R CMD check --install=check:eiR.install-out.txt --library=/home/biocbuild/bbs-3.20-bioc/R/site-library --timings eiR_1.46.0.tar.gz StartedAt: 2025-02-03 22:04:13 -0500 (Mon, 03 Feb 2025) EndedAt: 2025-02-03 22:05:47 -0500 (Mon, 03 Feb 2025) EllapsedTime: 94.1 seconds RetCode: 0 Status: OK CheckDir: eiR.Rcheck Warnings: 0