Package: eiR Version: 1.46.0 Command: /home/biocbuild/bbs-3.20-bioc/R/bin/R CMD INSTALL eiR StartedAt: 2025-02-03 16:03:59 -0500 (Mon, 03 Feb 2025) EndedAt: 2025-02-03 16:04:07 -0500 (Mon, 03 Feb 2025) EllapsedTime: 8.6 seconds RetCode: 0 Status: OK