Package: eiR Version: 1.46.0 Command: /home/biocbuild/R/R/bin/R CMD INSTALL eiR StartedAt: 2025-02-03 21:17:54 -0000 (Mon, 03 Feb 2025) EndedAt: 2025-02-03 21:18:06 -0000 (Mon, 03 Feb 2025) EllapsedTime: 11.6 seconds RetCode: 0 Status: OK