Package: eisaR Version: 1.18.0 Command: /Library/Frameworks/R.framework/Resources/bin/R CMD INSTALL eisaR StartedAt: 2025-02-03 15:29:19 -0500 (Mon, 03 Feb 2025) EndedAt: 2025-02-03 15:29:43 -0500 (Mon, 03 Feb 2025) EllapsedTime: 24.5 seconds RetCode: 0 Status: OK