Package: eisaR Version: 1.18.0 Command: /home/biocbuild/R/R/bin/R CMD build --keep-empty-dirs --no-resave-data eisaR StartedAt: 2025-02-03 23:21:52 -0000 (Mon, 03 Feb 2025) EndedAt: 2025-02-03 23:23:47 -0000 (Mon, 03 Feb 2025) EllapsedTime: 115.0 seconds RetCode: 0 Status: OK PackageFile: eisaR_1.18.0.tar.gz PackageFileSize: 1.598 MiB