Package: enhancerHomologSearch Version: 1.12.0 Command: rm -rf enhancerHomologSearch.buildbin-libdir && mkdir enhancerHomologSearch.buildbin-libdir && /Users/biocbuild/BBS/utils/build-universal.sh enhancerHomologSearch_1.12.0.tar.gz /Library/Frameworks/R.framework/Resources/bin/R enhancerHomologSearch.buildbin-libdir StartedAt: 2025-02-19 15:00:57 -0500 (Wed, 19 Feb 2025) EndedAt: 2025-02-19 15:06:13 -0500 (Wed, 19 Feb 2025) EllapsedTime: 315.9 seconds RetCode: 0 Status: OK PackageFile: enhancerHomologSearch_1.12.0.tgz PackageFileSize: 1.881 <A href="http://en.wikipedia.org/wiki/MiB" target="_blank">MiB</A>