Package: enhancerHomologSearch Version: 1.12.0 Command: /Library/Frameworks/R.framework/Resources/bin/R CMD INSTALL enhancerHomologSearch StartedAt: 2025-02-03 16:05:47 -0500 (Mon, 03 Feb 2025) EndedAt: 2025-02-03 16:10:34 -0500 (Mon, 03 Feb 2025) EllapsedTime: 286.7 seconds RetCode: 0 Status: OK