Package: enhancerHomologSearch Version: 1.12.0 Command: /home/biocbuild/bbs-3.20-bioc/R/bin/R CMD build --keep-empty-dirs --no-resave-data --md5 enhancerHomologSearch StartedAt: 2025-02-03 17:18:02 -0500 (Mon, 03 Feb 2025) EndedAt: 2025-02-03 17:30:15 -0500 (Mon, 03 Feb 2025) EllapsedTime: 733.1 seconds RetCode: 0 Status: OK PackageFile: enhancerHomologSearch_1.12.0.tar.gz PackageFileSize: 1.05 MiB