Package: enhancerHomologSearch Version: 1.12.0 Command: chmod a+r enhancerHomologSearch -R && F:\biocbuild\bbs-3.20-bioc\R\bin\R.exe CMD build --keep-empty-dirs --no-resave-data enhancerHomologSearch StartedAt: 2025-02-03 18:50:53 -0500 (Mon, 03 Feb 2025) EndedAt: 2025-02-03 19:14:48 -0500 (Mon, 03 Feb 2025) EllapsedTime: 1435.4 seconds RetCode: 0 Status: OK PackageFile: enhancerHomologSearch_1.12.0.tar.gz PackageFileSize: 1.043 MiB