Package: enhancerHomologSearch Version: 1.12.0 Command: F:\biocbuild\bbs-3.20-bioc\R\bin\R.exe CMD check --no-multiarch --install=check:enhancerHomologSearch.install-out.txt --library=F:\biocbuild\bbs-3.20-bioc\R\library --no-vignettes --timings enhancerHomologSearch_1.12.0.tar.gz StartedAt: 2025-02-04 01:31:58 -0500 (Tue, 04 Feb 2025) EndedAt: 2025-02-04 02:06:13 -0500 (Tue, 04 Feb 2025) EllapsedTime: 2054.6 seconds RetCode: 0 Status: OK CheckDir: enhancerHomologSearch.Rcheck Warnings: 0