Package: enrichViewNet Version: 1.4.0 Command: /Library/Frameworks/R.framework/Resources/bin/R CMD INSTALL enrichViewNet StartedAt: 2025-02-03 16:28:35 -0500 (Mon, 03 Feb 2025) EndedAt: 2025-02-03 16:29:26 -0500 (Mon, 03 Feb 2025) EllapsedTime: 50.9 seconds RetCode: 0 Status: OK