Package: enrichViewNet Version: 1.4.0 Command: /home/biocbuild/bbs-3.20-bioc/R/bin/R CMD build --keep-empty-dirs --no-resave-data --md5 enrichViewNet StartedAt: 2025-02-03 17:19:00 -0500 (Mon, 03 Feb 2025) EndedAt: 2025-02-03 17:19:54 -0500 (Mon, 03 Feb 2025) EllapsedTime: 54.0 seconds RetCode: 0 Status: OK PackageFile: enrichViewNet_1.4.0.tar.gz PackageFileSize: 4.261 MiB