Package: enrichViewNet Version: 1.4.0 Command: /home/biocbuild/bbs-3.20-bioc/R/bin/R CMD check --install=check:enrichViewNet.install-out.txt --library=/home/biocbuild/bbs-3.20-bioc/R/site-library --timings enrichViewNet_1.4.0.tar.gz StartedAt: 2025-02-03 22:06:24 -0500 (Mon, 03 Feb 2025) EndedAt: 2025-02-03 22:10:09 -0500 (Mon, 03 Feb 2025) EllapsedTime: 224.2 seconds RetCode: 0 Status: OK CheckDir: enrichViewNet.Rcheck Warnings: 0