Package: enrichViewNet Version: 1.4.0 Command: /home/biocbuild/bbs-3.20-bioc/R/bin/R CMD INSTALL enrichViewNet StartedAt: 2025-02-03 15:56:24 -0500 (Mon, 03 Feb 2025) EndedAt: 2025-02-03 15:56:50 -0500 (Mon, 03 Feb 2025) EllapsedTime: 26.3 seconds RetCode: 0 Status: OK