Package: enrichplot Version: 1.26.6 Command: /Library/Frameworks/R.framework/Resources/bin/R CMD build --keep-empty-dirs --no-resave-data enrichplot StartedAt: 2025-01-30 23:13:24 -0500 (Thu, 30 Jan 2025) EndedAt: 2025-01-30 23:13:54 -0500 (Thu, 30 Jan 2025) EllapsedTime: 29.8 seconds RetCode: 0 Status: OK PackageFile: enrichplot_1.26.6.tar.gz PackageFileSize: 98.64 KiB