Package: enrichplot Version: 1.26.6 Command: /Library/Frameworks/R.framework/Resources/bin/R CMD check --install=check:enrichplot.install-out.txt --library=/Library/Frameworks/R.framework/Resources/library --no-vignettes --timings enrichplot_1.26.6.tar.gz StartedAt: 2025-01-31 18:30:36 -0500 (Fri, 31 Jan 2025) EndedAt: 2025-01-31 18:33:45 -0500 (Fri, 31 Jan 2025) EllapsedTime: 188.7 seconds RetCode: 0 Status: WARNINGS CheckDir: enrichplot.Rcheck Warnings: 1