Package: enrichplot Version: 1.26.6 Command: /Library/Frameworks/R.framework/Resources/bin/R CMD INSTALL enrichplot StartedAt: 2025-01-30 17:14:31 -0500 (Thu, 30 Jan 2025) EndedAt: 2025-01-30 17:14:57 -0500 (Thu, 30 Jan 2025) EllapsedTime: 25.8 seconds RetCode: 0 Status: OK