Package: enrichplot Version: 1.26.2 Command: /Library/Frameworks/R.framework/Resources/bin/R CMD check --install=check:enrichplot.install-out.txt --library=/Library/Frameworks/R.framework/Resources/library --no-vignettes --timings enrichplot_1.26.2.tar.gz StartedAt: 2024-11-19 21:47:40 -0500 (Tue, 19 Nov 2024) EndedAt: 2024-11-19 21:53:43 -0500 (Tue, 19 Nov 2024) EllapsedTime: 362.7 seconds RetCode: 0 Status: WARNINGS CheckDir: enrichplot.Rcheck Warnings: 1