Package: enrichplot Version: 1.26.2 Command: /Library/Frameworks/R.framework/Resources/bin/R CMD INSTALL enrichplot StartedAt: 2024-11-19 15:33:38 -0500 (Tue, 19 Nov 2024) EndedAt: 2024-11-19 15:34:09 -0500 (Tue, 19 Nov 2024) EllapsedTime: 31.1 seconds RetCode: 0 Status: OK