Package: enrichplot Version: 1.25.0 Command: rm -rf enrichplot.buildbin-libdir && mkdir enrichplot.buildbin-libdir && F:\biocbuild\bbs-3.20-bioc\R\bin\R.exe CMD INSTALL --build --library=enrichplot.buildbin-libdir enrichplot_1.25.0.tar.gz StartedAt: 2024-06-10 13:31:54 -0400 (Mon, 10 Jun 2024) EndedAt: 2024-06-10 13:33:29 -0400 (Mon, 10 Jun 2024) EllapsedTime: 95.4 seconds RetCode: 0 Status: OK PackageFile: enrichplot_1.25.0.zip PackageFileSize: 347 KiB