Package: enrichplot Version: 1.26.6 Command: rm -rf enrichplot.buildbin-libdir && mkdir enrichplot.buildbin-libdir && F:\biocbuild\bbs-3.20-bioc\R\bin\R.exe CMD INSTALL --build --library=enrichplot.buildbin-libdir enrichplot_1.26.6.tar.gz StartedAt: 2025-01-31 08:36:22 -0500 (Fri, 31 Jan 2025) EndedAt: 2025-01-31 08:37:12 -0500 (Fri, 31 Jan 2025) EllapsedTime: 49.6 seconds RetCode: 0 Status: OK PackageFile: enrichplot_1.26.6.zip PackageFileSize: 303.9 KiB