Package: enrichplot Version: 1.26.6 Command: /home/biocbuild/R/R/bin/R CMD build --keep-empty-dirs --no-resave-data enrichplot StartedAt: 2025-01-30 23:24:19 -0000 (Thu, 30 Jan 2025) EndedAt: 2025-01-30 23:24:48 -0000 (Thu, 30 Jan 2025) EllapsedTime: 29.0 seconds RetCode: 0 Status: OK PackageFile: enrichplot_1.26.6.tar.gz PackageFileSize: 100.1 KiB