Package: ensembldb Version: 2.30.0 Command: /Library/Frameworks/R.framework/Resources/bin/R CMD INSTALL ensembldb StartedAt: 2025-02-03 15:51:53 -0500 (Mon, 03 Feb 2025) EndedAt: 2025-02-03 15:52:42 -0500 (Mon, 03 Feb 2025) EllapsedTime: 49.1 seconds RetCode: 0 Status: OK