Package: ensembldb Version: 2.30.0 Command: /home/biocbuild/bbs-3.20-bioc/R/bin/R CMD INSTALL ensembldb StartedAt: 2025-02-03 15:31:30 -0500 (Mon, 03 Feb 2025) EndedAt: 2025-02-03 15:32:11 -0500 (Mon, 03 Feb 2025) EllapsedTime: 41.3 seconds RetCode: 0 Status: OK