Package: ensembldb Version: 2.30.0 Command: /home/biocbuild/R/R/bin/R CMD check --install=check:ensembldb.install-out.txt --library=/home/biocbuild/R/R/site-library --no-vignettes --timings ensembldb_2.30.0.tar.gz StartedAt: 2025-02-18 06:18:12 -0000 (Tue, 18 Feb 2025) EndedAt: 2025-02-18 06:35:37 -0000 (Tue, 18 Feb 2025) EllapsedTime: 1045.8 seconds RetCode: 0 Status: OK CheckDir: ensembldb.Rcheck Warnings: 0