Package: epiNEM Version: 1.30.0 Command: rm -rf epiNEM.buildbin-libdir && mkdir epiNEM.buildbin-libdir && /Users/biocbuild/BBS/utils/build-universal.sh epiNEM_1.30.0.tar.gz /Library/Frameworks/R.framework/Resources/bin/R epiNEM.buildbin-libdir StartedAt: 2025-02-04 12:54:05 -0500 (Tue, 04 Feb 2025) EndedAt: 2025-02-04 12:54:46 -0500 (Tue, 04 Feb 2025) EllapsedTime: 41.0 seconds RetCode: 0 Status: OK PackageFile: epiNEM_1.30.0.tgz PackageFileSize: 2.601 MiB