Package: epiNEM Version: 1.30.0 Command: /home/biocbuild/R/R/bin/R CMD INSTALL epiNEM StartedAt: 2025-02-03 21:18:07 -0000 (Mon, 03 Feb 2025) EndedAt: 2025-02-03 21:18:29 -0000 (Mon, 03 Feb 2025) EllapsedTime: 21.4 seconds RetCode: 0 Status: OK