Package: epialleleR Version: 1.14.0 Command: rm -rf epialleleR.buildbin-libdir && mkdir epialleleR.buildbin-libdir && /Users/biocbuild/BBS/utils/build-universal.sh epialleleR_1.14.0.tar.gz /Library/Frameworks/R.framework/Resources/bin/R epialleleR.buildbin-libdir StartedAt: 2025-02-04 12:53:45 -0500 (Tue, 04 Feb 2025) EndedAt: 2025-02-04 12:56:01 -0500 (Tue, 04 Feb 2025) EllapsedTime: 136.8 seconds RetCode: 0 Status: OK PackageFile: epialleleR_1.14.0.tgz PackageFileSize: 4.387 MiB