Package: epialleleR Version: 1.14.0 Command: /Library/Frameworks/R.framework/Resources/bin/R CMD check --install=check:epialleleR.install-out.txt --library=/Library/Frameworks/R.framework/Resources/library --no-vignettes --timings epialleleR_1.14.0.tar.gz StartedAt: 2025-02-04 03:16:59 -0500 (Tue, 04 Feb 2025) EndedAt: 2025-02-04 03:22:08 -0500 (Tue, 04 Feb 2025) EllapsedTime: 309.0 seconds RetCode: 0 Status: OK CheckDir: epialleleR.Rcheck Warnings: 0