Package: epialleleR Version: 1.14.0 Command: /Library/Frameworks/R.framework/Resources/bin/R CMD INSTALL epialleleR StartedAt: 2025-02-03 15:22:14 -0500 (Mon, 03 Feb 2025) EndedAt: 2025-02-03 15:24:25 -0500 (Mon, 03 Feb 2025) EllapsedTime: 130.6 seconds RetCode: 0 Status: OK