Package: epialleleR Version: 1.14.0 Command: chmod a+r epialleleR -R && F:\biocbuild\bbs-3.20-bioc\R\bin\R.exe CMD build --keep-empty-dirs --no-resave-data epialleleR StartedAt: 2025-02-03 18:52:17 -0500 (Mon, 03 Feb 2025) EndedAt: 2025-02-03 19:00:21 -0500 (Mon, 03 Feb 2025) EllapsedTime: 483.9 seconds RetCode: 0 Status: OK PackageFile: epialleleR_1.14.0.tar.gz PackageFileSize: 2.366 MiB