Package: epialleleR Version: 1.14.0 Command: /home/biocbuild/R/R/bin/R CMD build --keep-empty-dirs --no-resave-data epialleleR StartedAt: 2025-02-03 23:25:00 -0000 (Mon, 03 Feb 2025) EndedAt: 2025-02-03 23:27:27 -0000 (Mon, 03 Feb 2025) EllapsedTime: 147.0 seconds RetCode: 0 Status: OK PackageFile: epialleleR_1.14.0.tar.gz PackageFileSize: 2.686 MiB