Package: epidecodeR Version: 1.14.0 Command: rm -rf epidecodeR.buildbin-libdir && mkdir epidecodeR.buildbin-libdir && /Users/biocbuild/BBS/utils/build-universal.sh epidecodeR_1.14.0.tar.gz /Library/Frameworks/R.framework/Resources/bin/R epidecodeR.buildbin-libdir StartedAt: 2025-02-05 15:44:21 -0500 (Wed, 05 Feb 2025) EndedAt: 2025-02-05 15:45:03 -0500 (Wed, 05 Feb 2025) EllapsedTime: 41.9 seconds RetCode: 0 Status: OK PackageFile: epidecodeR_1.14.0.tgz PackageFileSize: 1.949 MiB