Package: epidecodeR Version: 1.14.0 Command: /home/biocbuild/R/R/bin/R CMD build --keep-empty-dirs --no-resave-data epidecodeR StartedAt: 2024-11-20 00:31:44 -0000 (Wed, 20 Nov 2024) EndedAt: 2024-11-20 00:32:53 -0000 (Wed, 20 Nov 2024) EllapsedTime: 69.1 seconds RetCode: 0 Status: OK PackageFile: epidecodeR_1.14.0.tar.gz PackageFileSize: 1.793 <A href="http://en.wikipedia.org/wiki/MiB" target="_blank">MiB</A>