Package: epidecodeR
Version: 1.14.0
Command: /Library/Frameworks/R.framework/Resources/bin/R CMD check --install=check:epidecodeR.install-out.txt --library=/Library/Frameworks/R.framework/Resources/library --no-vignettes --timings epidecodeR_1.14.0.tar.gz
StartedAt: 2024-11-19 21:48:59 -0500 (Tue, 19 Nov 2024)
EndedAt: 2024-11-19 21:56:09 -0500 (Tue, 19 Nov 2024)
EllapsedTime: 430.5 seconds
RetCode: 0
Status: OK
CheckDir: epidecodeR.Rcheck
Warnings: 0