Package: epidecodeR Version: 1.14.0 Command: /Library/Frameworks/R.framework/Resources/bin/R CMD check --install=check:epidecodeR.install-out.txt --library=/Library/Frameworks/R.framework/Resources/library --no-vignettes --timings epidecodeR_1.14.0.tar.gz StartedAt: 2025-02-04 03:17:42 -0500 (Tue, 04 Feb 2025) EndedAt: 2025-02-04 03:26:18 -0500 (Tue, 04 Feb 2025) EllapsedTime: 516.7 seconds RetCode: 0 Status: OK CheckDir: epidecodeR.Rcheck Warnings: 0